BEGIN:VCALENDAR
VERSION:2.0
PRODID:-//โครงการอายิโนะโมะโต๊ะ โภชนาการเพื่อเด็กไทยก้าวไกลสร้างชาติ - ECPv5.7.0//NONSGML v1.0//EN
CALSCALE:GREGORIAN
METHOD:PUBLISH
X-WR-CALNAME:โครงการอายิโนะโมะโต๊ะ โภชนาการเพื่อเด็กไทยก้าวไกลสร้างชาติ
X-ORIGINAL-URL:https://www.af-thaiproject.com
X-WR-CALDESC:Events for โครงการอายิโนะโมะโต๊ะ โภชนาการเพื่อเด็กไทยก้าวไกลสร้างชาติ
BEGIN:VTIMEZONE
TZID:UTC
BEGIN:STANDARD
TZOFFSETFROM:+0000
TZOFFSETTO:+0000
TZNAME:UTC
DTSTART:20210101T000000
END:STANDARD
END:VTIMEZONE
BEGIN:VEVENT
DTSTART;TZID=UTC:20210315T055500
DTEND;TZID=UTC:20210419T055500
DTSTAMP:20260424T073633
CREATED:20210501T060428Z
LAST-MODIFIED:20210511T113621Z
UID:98-1615787700-1618811700@www.af-thaiproject.com
SUMMARY:Creative Workshop With Mentari
DESCRIPTION:In October\, ArtWorks for Freedom partnered with Mentari Human Trafficking Survivor Empowerment Program to hold a two-day photography workshop in New York City. Conducted by Kay Chernush\, the workshop introduced 6 participants to principles of composition\, color\, texture\, and the idea of photographing with intention.  Participants used their cameras to explore a Queens neighborhood and park\, learning how to capture a sense of place and opening their eyes to the many visual possibilities around them. \nIf you work directly with survivors and would like to set up a photography workshop\, please contact us for more information.
URL:https://www.af-thaiproject.com/event/event-1/
ATTACH;FMTTYPE=image/png:https://www.af-thaiproject.com/wp-content/uploads/2016/02/slider2.png
END:VEVENT
END:VCALENDAR